BEGIN:VCALENDAR
VERSION:2.0
PRODID:-//C3SC - Cardiff Third Sector Council - ECPv6.15.17//NONSGML v1.0//EN
CALSCALE:GREGORIAN
METHOD:PUBLISH
X-WR-CALNAME:C3SC - Cardiff Third Sector Council
X-ORIGINAL-URL:https://c3sc.org.uk
X-WR-CALDESC:Events for C3SC - Cardiff Third Sector Council
REFRESH-INTERVAL;VALUE=DURATION:PT1H
X-Robots-Tag:noindex
X-PUBLISHED-TTL:PT1H
BEGIN:VTIMEZONE
TZID:Europe/London
BEGIN:DAYLIGHT
TZOFFSETFROM:+0000
TZOFFSETTO:+0100
TZNAME:BST
DTSTART:20160327T010000
END:DAYLIGHT
BEGIN:STANDARD
TZOFFSETFROM:+0100
TZOFFSETTO:+0000
TZNAME:GMT
DTSTART:20161030T010000
END:STANDARD
BEGIN:DAYLIGHT
TZOFFSETFROM:+0000
TZOFFSETTO:+0100
TZNAME:BST
DTSTART:20170326T010000
END:DAYLIGHT
BEGIN:STANDARD
TZOFFSETFROM:+0100
TZOFFSETTO:+0000
TZNAME:GMT
DTSTART:20171029T010000
END:STANDARD
BEGIN:DAYLIGHT
TZOFFSETFROM:+0000
TZOFFSETTO:+0100
TZNAME:BST
DTSTART:20180325T010000
END:DAYLIGHT
BEGIN:STANDARD
TZOFFSETFROM:+0100
TZOFFSETTO:+0000
TZNAME:GMT
DTSTART:20181028T010000
END:STANDARD
END:VTIMEZONE
BEGIN:VEVENT
DTSTART;TZID=Europe/London:20171204T173000
DTEND;TZID=Europe/London:20171204T200000
DTSTAMP:20260425T212701
CREATED:20171129T160238Z
LAST-MODIFIED:20171129T160238Z
UID:49547-1512408600-1512417600@c3sc.org.uk
SUMMARY:Cooperative Womens Voice's Wales
DESCRIPTION:The Wales Cooperatvie Centre would like you to join them for this free event on Monday 4th December 2017 (5.30 – 8.00pm) at the Tramshed Tech in Cardiff City Centre. http://bit.ly/CoWomWal \n What’s happening? \nThere will be speakers to inspire us\, drinks and nibbles\, informal networking and the question: What makes co-operatives different for women? \n Keynote speakers: \n• Karen Wilkie\, Deputy General Secretary\, Co-op Party • Allison Soroko\, Head of Engagement and Ownership\, Merthyr Valleys Homes \nChair: Dr Amanda Benson\, Co-operative College and Co-op Women’s Challenge Steering Committee member \nThis launch event has been organised by the Wales Co-operative Centre and Co-operative College and is supported by Co-ops UK and Co-operative News.
URL:https://c3sc.org.uk/event-single/cooperative-womens-voices-wales/
LOCATION:Tramshed Tech\, D\, Pendyris St\, Cardiff CF11 6BH\, Tramshed Tech\, D\, Pendyris St\, Cardiff CF11 6BH
CATEGORIES:Event
END:VEVENT
END:VCALENDAR