BEGIN:VCALENDAR
VERSION:2.0
PRODID:-//C3SC - Cardiff Third Sector Council - ECPv6.15.17//NONSGML v1.0//EN
CALSCALE:GREGORIAN
METHOD:PUBLISH
X-WR-CALNAME:C3SC - Cardiff Third Sector Council
X-ORIGINAL-URL:https://c3sc.org.uk
X-WR-CALDESC:Events for C3SC - Cardiff Third Sector Council
REFRESH-INTERVAL;VALUE=DURATION:PT1H
X-Robots-Tag:noindex
X-PUBLISHED-TTL:PT1H
BEGIN:VTIMEZONE
TZID:Europe/London
BEGIN:DAYLIGHT
TZOFFSETFROM:+0000
TZOFFSETTO:+0100
TZNAME:BST
DTSTART:20110327T010000
END:DAYLIGHT
BEGIN:STANDARD
TZOFFSETFROM:+0100
TZOFFSETTO:+0000
TZNAME:GMT
DTSTART:20111030T010000
END:STANDARD
BEGIN:DAYLIGHT
TZOFFSETFROM:+0000
TZOFFSETTO:+0100
TZNAME:BST
DTSTART:20120325T010000
END:DAYLIGHT
BEGIN:STANDARD
TZOFFSETFROM:+0100
TZOFFSETTO:+0000
TZNAME:GMT
DTSTART:20121028T010000
END:STANDARD
BEGIN:DAYLIGHT
TZOFFSETFROM:+0000
TZOFFSETTO:+0100
TZNAME:BST
DTSTART:20130331T010000
END:DAYLIGHT
BEGIN:STANDARD
TZOFFSETFROM:+0100
TZOFFSETTO:+0000
TZNAME:GMT
DTSTART:20131027T010000
END:STANDARD
END:VTIMEZONE
BEGIN:VEVENT
DTSTART;TZID=Europe/London:20120711T100000
DTEND;TZID=Europe/London:20120711T123000
DTSTAMP:20260422T051615
CREATED:20120711T090000Z
LAST-MODIFIED:20120711T090000Z
UID:44708-1342000800-1342009800@c3sc.org.uk
SUMMARY:Consultation event - Wyn Campaign (previously the Frail Older People's Service Delivery Programme)
DESCRIPTION:The Wyn Campaign\, previously the Frail Older People’s Service Delivery Programme\, focuses on supporting older people regain and retain independence. The Campaign covers Cardiff and the Vale and involves the Cardiff and Vale University Health Board\, the local authorities\, the third sector and the Community Health Council\, working together to develop and improve services for older people. \nThis event provides an opportunity to find out what has happened so far\, to find out what will be happening in the future\, to say what you think about the Wyn Campaign and to explore how you can get involved.   \nIf you want to know more about the Wyn Campaign\, please contact Linda Pritchard on 01446 741706 or linda@valecvs.org.uk \nTo book a place\, contact Ceri Venners by emailing ceri@valecvs.org.uk by 29th June.
URL:https://c3sc.org.uk/event-single/consultation-event-wyn-campaign-previously-the-frail-older-peoples-service-delivery-programme/
LOCATION:Bedwas Suite\, Memorial Hall\, Gladstone Road\, Barry\, Bedwas Suite\, Memorial Hall\, Gladstone Road\, Barry
CATEGORIES:Event
END:VEVENT
END:VCALENDAR