BEGIN:VCALENDAR
VERSION:2.0
PRODID:-//C3SC - Cardiff Third Sector Council - ECPv6.15.17//NONSGML v1.0//EN
CALSCALE:GREGORIAN
METHOD:PUBLISH
X-WR-CALNAME:C3SC - Cardiff Third Sector Council
X-ORIGINAL-URL:https://c3sc.org.uk
X-WR-CALDESC:Events for C3SC - Cardiff Third Sector Council
REFRESH-INTERVAL;VALUE=DURATION:PT1H
X-Robots-Tag:noindex
X-PUBLISHED-TTL:PT1H
BEGIN:VTIMEZONE
TZID:Europe/London
BEGIN:DAYLIGHT
TZOFFSETFROM:+0000
TZOFFSETTO:+0100
TZNAME:BST
DTSTART:20180325T010000
END:DAYLIGHT
BEGIN:STANDARD
TZOFFSETFROM:+0100
TZOFFSETTO:+0000
TZNAME:GMT
DTSTART:20181028T010000
END:STANDARD
BEGIN:DAYLIGHT
TZOFFSETFROM:+0000
TZOFFSETTO:+0100
TZNAME:BST
DTSTART:20190331T010000
END:DAYLIGHT
BEGIN:STANDARD
TZOFFSETFROM:+0100
TZOFFSETTO:+0000
TZNAME:GMT
DTSTART:20191027T010000
END:STANDARD
BEGIN:DAYLIGHT
TZOFFSETFROM:+0000
TZOFFSETTO:+0100
TZNAME:BST
DTSTART:20200329T010000
END:DAYLIGHT
BEGIN:STANDARD
TZOFFSETFROM:+0100
TZOFFSETTO:+0000
TZNAME:GMT
DTSTART:20201025T010000
END:STANDARD
END:VTIMEZONE
BEGIN:VEVENT
DTSTART;VALUE=DATE:20191121
DTEND;VALUE=DATE:20191122
DTSTAMP:20260424T005739
CREATED:20191025T135106Z
LAST-MODIFIED:20191025T135106Z
UID:50325-1574294400-1574380799@c3sc.org.uk
SUMMARY:Community Sector Network: Forthcoming Workshops / Rhwydwaith y Sector Cymunedol Gweithdai gwasanaethau
DESCRIPTION:1 How do communities work with Government? \nPublic sector bodies are talking more and more about building stronger communities and working with communities. What does this mean for you and your organisation? What are they getting right and what are they getting wrong? \nWelsh Government have recognised that they have a gap in their policies for working with communities and this is your chance to have your say. \n  \n2 How might we use a Community Wealth Fund in Wales? \nAfter years of funding cuts\, there’s a different kind of funding opportunity on the horizon. The possibility of another wave of dormant financial assets (this time stocks and shares) being used to support ‘good causes’ is now being actively discussed through the creation of a Community Wealth Fund.  Have your say about how this could work in Wales to ensure local communities can get the most from this opportunity. \nWe’ll be holding events in: \n\nSwansea: Mon 4 Nov 2019\nWrexham: Fri 15 Nov 2019\nCardiff: Thu 21 Nov 2019\nPembrokeshire: Thu 28 Nov 2019 (in partnership with Planed)\nRuthin: Fri 31 Jan 2020 (in partnership with DVSC)\n\nEvents to follow in: \n\nNeath\nMerthyr Tydfil\nEbbw Vale\nCaernarfon\nMid Wales\n\nTo sign up to attend any of these events please follow the links provided on BCT’s Tocyn Cymru profile at http://bit.ly/TocynCymruBCT. \nIf you would like any further information on the events\, please contact info@bct.wales.
URL:https://c3sc.org.uk/event-single/community-sector-network-forthcoming-workshops-rhwydwaith-y-sector-cymunedol-gweithdai-gwasanaethau/
CATEGORIES:Event
END:VEVENT
END:VCALENDAR