BEGIN:VCALENDAR
VERSION:2.0
PRODID:-//C3SC - Cardiff Third Sector Council - ECPv6.15.17//NONSGML v1.0//EN
CALSCALE:GREGORIAN
METHOD:PUBLISH
X-WR-CALNAME:C3SC - Cardiff Third Sector Council
X-ORIGINAL-URL:https://c3sc.org.uk
X-WR-CALDESC:Events for C3SC - Cardiff Third Sector Council
REFRESH-INTERVAL;VALUE=DURATION:PT1H
X-Robots-Tag:noindex
X-PUBLISHED-TTL:PT1H
BEGIN:VTIMEZONE
TZID:Europe/London
BEGIN:DAYLIGHT
TZOFFSETFROM:+0000
TZOFFSETTO:+0100
TZNAME:BST
DTSTART:20130331T010000
END:DAYLIGHT
BEGIN:STANDARD
TZOFFSETFROM:+0100
TZOFFSETTO:+0000
TZNAME:GMT
DTSTART:20131027T010000
END:STANDARD
BEGIN:DAYLIGHT
TZOFFSETFROM:+0000
TZOFFSETTO:+0100
TZNAME:BST
DTSTART:20140330T010000
END:DAYLIGHT
BEGIN:STANDARD
TZOFFSETFROM:+0100
TZOFFSETTO:+0000
TZNAME:GMT
DTSTART:20141026T010000
END:STANDARD
BEGIN:DAYLIGHT
TZOFFSETFROM:+0000
TZOFFSETTO:+0100
TZNAME:BST
DTSTART:20150329T010000
END:DAYLIGHT
BEGIN:STANDARD
TZOFFSETFROM:+0100
TZOFFSETTO:+0000
TZNAME:GMT
DTSTART:20151025T010000
END:STANDARD
END:VTIMEZONE
BEGIN:VEVENT
DTSTART;VALUE=DATE:20140115
DTEND;VALUE=DATE:20140116
DTSTAMP:20260424T023203
CREATED:20140115T000000Z
LAST-MODIFIED:20140115T000000Z
UID:46271-1389744000-1389830399@c3sc.org.uk
SUMMARY:Communicating Through Touch
DESCRIPTION:A Learning Disability Wales workshop to help those that care for someone with an Autism Spectrum Disorder or learning disabilities use touch to help communication\, relaxation and the relief of stress and anxiety. This session will provide tools that carers and parents can use in everyday situations. \n    \nAccreditation: \nThis course is accredited by Agored Cymru and counts as one unit at level one on the Qualification and Curriculum Framework. You can have your work assessed by the tutor\, successful learners will be awarded a Credit for their learning.
URL:https://c3sc.org.uk/event-single/communicating-through-touch-3/
LOCATION:Cardiff\, Cardiff
CATEGORIES:Training
END:VEVENT
END:VCALENDAR