BEGIN:VCALENDAR
VERSION:2.0
PRODID:-//C3SC - Cardiff Third Sector Council - ECPv6.15.17//NONSGML v1.0//EN
CALSCALE:GREGORIAN
METHOD:PUBLISH
X-WR-CALNAME:C3SC - Cardiff Third Sector Council
X-ORIGINAL-URL:https://c3sc.org.uk
X-WR-CALDESC:Events for C3SC - Cardiff Third Sector Council
REFRESH-INTERVAL;VALUE=DURATION:PT1H
X-Robots-Tag:noindex
X-PUBLISHED-TTL:PT1H
BEGIN:VTIMEZONE
TZID:Europe/London
BEGIN:DAYLIGHT
TZOFFSETFROM:+0000
TZOFFSETTO:+0100
TZNAME:BST
DTSTART:20130331T010000
END:DAYLIGHT
BEGIN:STANDARD
TZOFFSETFROM:+0100
TZOFFSETTO:+0000
TZNAME:GMT
DTSTART:20131027T010000
END:STANDARD
BEGIN:DAYLIGHT
TZOFFSETFROM:+0000
TZOFFSETTO:+0100
TZNAME:BST
DTSTART:20140330T010000
END:DAYLIGHT
BEGIN:STANDARD
TZOFFSETFROM:+0100
TZOFFSETTO:+0000
TZNAME:GMT
DTSTART:20141026T010000
END:STANDARD
BEGIN:DAYLIGHT
TZOFFSETFROM:+0000
TZOFFSETTO:+0100
TZNAME:BST
DTSTART:20150329T010000
END:DAYLIGHT
BEGIN:STANDARD
TZOFFSETFROM:+0100
TZOFFSETTO:+0000
TZNAME:GMT
DTSTART:20151025T010000
END:STANDARD
END:VTIMEZONE
BEGIN:VEVENT
DTSTART;TZID=Europe/London:20140515T110000
DTEND;TZID=Europe/London:20140515T130000
DTSTAMP:20260424T172938
CREATED:20140515T100000Z
LAST-MODIFIED:20140515T100000Z
UID:46616-1400151600-1400158800@c3sc.org.uk
SUMMARY:Co-Creating Healthy Change Forum Meeting - a Diverse Cymru event
DESCRIPTION:Come along and share your views on health\, social care and wellbeing services.No special knowledge or experience needed. Refreshments provided. \nDiverse Cymru can offer expenses for travel and replacement care costs (including child care). Please let them know in advance if you would like to arrange replacement care costs or have any access requirements. \nIf you’re interested in coming along or want to find out more contact: Roz Warden / Shelagh Maher – 029 2036 8888 roz.warden@diversecymru.org.uk / shelagh.maher@diversecymru.org.uk \nThis event will be repeated on 5th June from 11am-1pm at the Civic Offices\, Holton Road\, Barry.
URL:https://c3sc.org.uk/event-single/co-creating-healthy-change-forum-meeting-a-diverse-cymru-event/
LOCATION:The Cardiff Story\, Old Library\, The Hayes\, The Cardiff Story\, Old Library\, The Hayes
CATEGORIES:Meeting
END:VEVENT
END:VCALENDAR