BEGIN:VCALENDAR
VERSION:2.0
PRODID:-//C3SC - Cardiff Third Sector Council - ECPv6.15.17//NONSGML v1.0//EN
CALSCALE:GREGORIAN
METHOD:PUBLISH
X-WR-CALNAME:C3SC - Cardiff Third Sector Council
X-ORIGINAL-URL:https://c3sc.org.uk
X-WR-CALDESC:Events for C3SC - Cardiff Third Sector Council
REFRESH-INTERVAL;VALUE=DURATION:PT1H
X-Robots-Tag:noindex
X-PUBLISHED-TTL:PT1H
BEGIN:VTIMEZONE
TZID:Europe/London
BEGIN:DAYLIGHT
TZOFFSETFROM:+0000
TZOFFSETTO:+0100
TZNAME:BST
DTSTART:20210328T010000
END:DAYLIGHT
BEGIN:STANDARD
TZOFFSETFROM:+0100
TZOFFSETTO:+0000
TZNAME:GMT
DTSTART:20211031T010000
END:STANDARD
BEGIN:DAYLIGHT
TZOFFSETFROM:+0000
TZOFFSETTO:+0100
TZNAME:BST
DTSTART:20220327T010000
END:DAYLIGHT
BEGIN:STANDARD
TZOFFSETFROM:+0100
TZOFFSETTO:+0000
TZNAME:GMT
DTSTART:20221030T010000
END:STANDARD
BEGIN:DAYLIGHT
TZOFFSETFROM:+0000
TZOFFSETTO:+0100
TZNAME:BST
DTSTART:20230326T010000
END:DAYLIGHT
BEGIN:STANDARD
TZOFFSETFROM:+0100
TZOFFSETTO:+0000
TZNAME:GMT
DTSTART:20231029T010000
END:STANDARD
END:VTIMEZONE
BEGIN:VEVENT
DTSTART;TZID=Europe/London:20220628T180000
DTEND;TZID=Europe/London:20220628T190000
DTSTAMP:20260422T200426
CREATED:20220616T133018Z
LAST-MODIFIED:20220616T151905Z
UID:64600-1656439200-1656442800@c3sc.org.uk
SUMMARY:Cardiff Youth Led Grant Information Session
DESCRIPTION:Join our online information session to learn more about Cardiff Youth Led Grants (YLG). You will have the opportunity to chat with current Youth Led Grant panel members about their experiences on the panel\, and find out how you can get involved with YLG as a panellist.  \nThinking of applying for funding? YLG is accepting funding applications until 15 July! Join this session to gain insight into how the grant is administered\, the application process\, and successful projects from previous years! You will also have an opportunity to ask any questions about the fund and your project specifically.  \nThe event will be delivered using Microsoft Teams\, and the link will be sent 24 hours prior to the event taking place. The workshop will not be recorded.  \nFor more information please contact the team on 07973 725569 or volunteering@c3sc.org.uk \nRegister for this FREE event on Eventbrite by clicking this link: https://www.eventbrite.co.uk/e/cardiff-youth-led-grant-information-session-tickets-367447935667
URL:https://c3sc.org.uk/event-single/cardiff-youth-led-grant-information-session/
CATEGORIES:Event
ATTACH;FMTTYPE=image/png:https://c3sc.org.uk/wp-content/uploads/MicrosoftTeams-image-3.png
END:VEVENT
END:VCALENDAR