BEGIN:VCALENDAR
VERSION:2.0
PRODID:-//C3SC - Cardiff Third Sector Council - ECPv6.15.17//NONSGML v1.0//EN
CALSCALE:GREGORIAN
METHOD:PUBLISH
X-WR-CALNAME:C3SC - Cardiff Third Sector Council
X-ORIGINAL-URL:https://c3sc.org.uk
X-WR-CALDESC:Events for C3SC - Cardiff Third Sector Council
REFRESH-INTERVAL;VALUE=DURATION:PT1H
X-Robots-Tag:noindex
X-PUBLISHED-TTL:PT1H
BEGIN:VTIMEZONE
TZID:Europe/London
BEGIN:DAYLIGHT
TZOFFSETFROM:+0000
TZOFFSETTO:+0100
TZNAME:BST
DTSTART:20180325T010000
END:DAYLIGHT
BEGIN:STANDARD
TZOFFSETFROM:+0100
TZOFFSETTO:+0000
TZNAME:GMT
DTSTART:20181028T010000
END:STANDARD
BEGIN:DAYLIGHT
TZOFFSETFROM:+0000
TZOFFSETTO:+0100
TZNAME:BST
DTSTART:20190331T010000
END:DAYLIGHT
BEGIN:STANDARD
TZOFFSETFROM:+0100
TZOFFSETTO:+0000
TZNAME:GMT
DTSTART:20191027T010000
END:STANDARD
BEGIN:DAYLIGHT
TZOFFSETFROM:+0000
TZOFFSETTO:+0100
TZNAME:BST
DTSTART:20200329T010000
END:DAYLIGHT
BEGIN:STANDARD
TZOFFSETFROM:+0100
TZOFFSETTO:+0000
TZNAME:GMT
DTSTART:20201025T010000
END:STANDARD
END:VTIMEZONE
BEGIN:VEVENT
DTSTART;TZID=Europe/London:20190328T170000
DTEND;TZID=Europe/London:20190328T183000
DTSTAMP:20260423T062339
CREATED:20190314T094410Z
LAST-MODIFIED:20190314T094410Z
UID:49979-1553792400-1553797800@c3sc.org.uk
SUMMARY:Cardiff Trustee Network - Become A Trustee
DESCRIPTION:INNTERESTED IN BECOMING A TRUSTEE? \n– Meet and hear from organisations in Cardiff actively looking for people to become trustees. \n– Learn about what is involved with trusteeship. \n– Support an organisaion at a strategic level and develop your professional skills. \n  \nPlease email matthew.e@c3sc.org.uk to register\, or click here: https://www.eventbrite.co.uk/e/cardiff-trustee-network-become-a-trustee-tickets-58780439878
URL:https://c3sc.org.uk/event-single/cardiff-trustee-network-become-a-trustee/
LOCATION:C3SC Offices (Baltic House)\, C3SC Offices (Baltic House)
CATEGORIES:Event
END:VEVENT
END:VCALENDAR