BEGIN:VCALENDAR
VERSION:2.0
PRODID:-//C3SC - Cardiff Third Sector Council - ECPv6.15.17//NONSGML v1.0//EN
CALSCALE:GREGORIAN
METHOD:PUBLISH
X-WR-CALNAME:C3SC - Cardiff Third Sector Council
X-ORIGINAL-URL:https://c3sc.org.uk
X-WR-CALDESC:Events for C3SC - Cardiff Third Sector Council
REFRESH-INTERVAL;VALUE=DURATION:PT1H
X-Robots-Tag:noindex
X-PUBLISHED-TTL:PT1H
BEGIN:VTIMEZONE
TZID:Europe/London
BEGIN:DAYLIGHT
TZOFFSETFROM:+0000
TZOFFSETTO:+0100
TZNAME:BST
DTSTART:20170326T010000
END:DAYLIGHT
BEGIN:STANDARD
TZOFFSETFROM:+0100
TZOFFSETTO:+0000
TZNAME:GMT
DTSTART:20171029T010000
END:STANDARD
BEGIN:DAYLIGHT
TZOFFSETFROM:+0000
TZOFFSETTO:+0100
TZNAME:BST
DTSTART:20180325T010000
END:DAYLIGHT
BEGIN:STANDARD
TZOFFSETFROM:+0100
TZOFFSETTO:+0000
TZNAME:GMT
DTSTART:20181028T010000
END:STANDARD
BEGIN:DAYLIGHT
TZOFFSETFROM:+0000
TZOFFSETTO:+0100
TZNAME:BST
DTSTART:20190331T010000
END:DAYLIGHT
BEGIN:STANDARD
TZOFFSETFROM:+0100
TZOFFSETTO:+0000
TZNAME:GMT
DTSTART:20191027T010000
END:STANDARD
END:VTIMEZONE
BEGIN:VEVENT
DTSTART;TZID=Europe/London:20181019T130000
DTEND;TZID=Europe/London:20181019T150000
DTSTAMP:20260425T225547
CREATED:20181002T090713Z
LAST-MODIFIED:20181002T090713Z
UID:49860-1539954000-1539961200@c3sc.org.uk
SUMMARY:Cardiff People First Roadshow: Grangetown
DESCRIPTION:Meet us for tea and cake. \nFind out how you can be part of the team. Cardiff People First is run by people with a disability. You are in charge! \n\nMAKE NEW FRIENDS\nGO OUT AND HAVE FUN\nMAKE PEOPLE LISTEN TO YOU\nBE MORE CONFIDENT\nLEARN NEW THINGS\n\nFriends\, family\, support workers and anyone else who wants to help are welcome too!
URL:https://c3sc.org.uk/event-single/cardiff-people-first-roadshow-grangetown/
LOCATION:Grange Pavillion\, Grange Gardens\, Grangetown\, Grange Pavillion\, Grange Gardens\, Grangetown
CATEGORIES:Event
END:VEVENT
END:VCALENDAR