BEGIN:VCALENDAR
VERSION:2.0
PRODID:-//C3SC - Cardiff Third Sector Council - ECPv6.15.17//NONSGML v1.0//EN
CALSCALE:GREGORIAN
METHOD:PUBLISH
X-WR-CALNAME:C3SC - Cardiff Third Sector Council
X-ORIGINAL-URL:https://c3sc.org.uk
X-WR-CALDESC:Events for C3SC - Cardiff Third Sector Council
REFRESH-INTERVAL;VALUE=DURATION:PT1H
X-Robots-Tag:noindex
X-PUBLISHED-TTL:PT1H
BEGIN:VTIMEZONE
TZID:Europe/London
BEGIN:DAYLIGHT
TZOFFSETFROM:+0000
TZOFFSETTO:+0100
TZNAME:BST
DTSTART:20110327T010000
END:DAYLIGHT
BEGIN:STANDARD
TZOFFSETFROM:+0100
TZOFFSETTO:+0000
TZNAME:GMT
DTSTART:20111030T010000
END:STANDARD
BEGIN:DAYLIGHT
TZOFFSETFROM:+0000
TZOFFSETTO:+0100
TZNAME:BST
DTSTART:20120325T010000
END:DAYLIGHT
BEGIN:STANDARD
TZOFFSETFROM:+0100
TZOFFSETTO:+0000
TZNAME:GMT
DTSTART:20121028T010000
END:STANDARD
BEGIN:DAYLIGHT
TZOFFSETFROM:+0000
TZOFFSETTO:+0100
TZNAME:BST
DTSTART:20130331T010000
END:DAYLIGHT
BEGIN:STANDARD
TZOFFSETFROM:+0100
TZOFFSETTO:+0000
TZNAME:GMT
DTSTART:20131027T010000
END:STANDARD
END:VTIMEZONE
BEGIN:VEVENT
DTSTART;TZID=Europe/London:20120430T110000
DTEND;TZID=Europe/London:20120430T123000
DTSTAMP:20260423T105525
CREATED:20120430T100000Z
LAST-MODIFIED:20120430T100000Z
UID:44426-1335783600-1335789000@c3sc.org.uk
SUMMARY:Cardiff Inter Faith Network meeting
DESCRIPTION:The purpose of this meeting is to begin planning an event in Cardiff to mark Inter Faith Week 2012\, which takes place from Sunday 18 to Saturday 24 November. We will be meeting on a regular basis for six months leading up to the week itself. If your group or organisation would like to get involved\, please contact Jeremy Rees at C3SC (see below for details).
URL:https://c3sc.org.uk/event-single/cardiff-inter-faith-network-meeting/
LOCATION:C3SC offices\, Brunel House\, 2 Fitzalan Road\, Cardiff CF24 0EB.\, C3SC offices\, Brunel House\, 2 Fitzalan Road\, Cardiff CF24 0EB.
CATEGORIES:Meeting
END:VEVENT
END:VCALENDAR