BEGIN:VCALENDAR
VERSION:2.0
PRODID:-//C3SC - Cardiff Third Sector Council - ECPv6.15.17//NONSGML v1.0//EN
CALSCALE:GREGORIAN
METHOD:PUBLISH
X-WR-CALNAME:C3SC - Cardiff Third Sector Council
X-ORIGINAL-URL:https://c3sc.org.uk
X-WR-CALDESC:Events for C3SC - Cardiff Third Sector Council
REFRESH-INTERVAL;VALUE=DURATION:PT1H
X-Robots-Tag:noindex
X-PUBLISHED-TTL:PT1H
BEGIN:VTIMEZONE
TZID:Europe/London
BEGIN:DAYLIGHT
TZOFFSETFROM:+0000
TZOFFSETTO:+0100
TZNAME:BST
DTSTART:20180325T010000
END:DAYLIGHT
BEGIN:STANDARD
TZOFFSETFROM:+0100
TZOFFSETTO:+0000
TZNAME:GMT
DTSTART:20181028T010000
END:STANDARD
BEGIN:DAYLIGHT
TZOFFSETFROM:+0000
TZOFFSETTO:+0100
TZNAME:BST
DTSTART:20190331T010000
END:DAYLIGHT
BEGIN:STANDARD
TZOFFSETFROM:+0100
TZOFFSETTO:+0000
TZNAME:GMT
DTSTART:20191027T010000
END:STANDARD
BEGIN:DAYLIGHT
TZOFFSETFROM:+0000
TZOFFSETTO:+0100
TZNAME:BST
DTSTART:20200329T010000
END:DAYLIGHT
BEGIN:STANDARD
TZOFFSETFROM:+0100
TZOFFSETTO:+0000
TZNAME:GMT
DTSTART:20201025T010000
END:STANDARD
END:VTIMEZONE
BEGIN:VEVENT
DTSTART;TZID=Europe/London:20191031T120000
DTEND;TZID=Europe/London:20191031T160000
DTSTAMP:20260426T025334
CREATED:20191025T135327Z
LAST-MODIFIED:20191025T135327Z
UID:50328-1572523200-1572537600@c3sc.org.uk
SUMMARY:Cardiff Cycling Consultation
DESCRIPTION:A new date has been arranged for the Cardiff Cycling Consultation\, please see email below from Helen Kane who is organising the event. If you would like further information please contact Helen on: accessincluded@gmail.com. Please note this is not a Diverse Cymru event so we are unable to offer expenses
URL:https://c3sc.org.uk/event-single/cardiff-cycling-consultation/
LOCATION:Committee Room 4 at Cardiff Council County Hall Atlantic Wharf Cardiff CF10 4UW\, Committee Room 4 at Cardiff Council County Hall Atlantic Wharf Cardiff CF10 4UW
CATEGORIES:Meeting
END:VEVENT
END:VCALENDAR