BEGIN:VCALENDAR
VERSION:2.0
PRODID:-//C3SC - Cardiff Third Sector Council - ECPv6.15.17//NONSGML v1.0//EN
CALSCALE:GREGORIAN
METHOD:PUBLISH
X-WR-CALNAME:C3SC - Cardiff Third Sector Council
X-ORIGINAL-URL:https://c3sc.org.uk
X-WR-CALDESC:Events for C3SC - Cardiff Third Sector Council
REFRESH-INTERVAL;VALUE=DURATION:PT1H
X-Robots-Tag:noindex
X-PUBLISHED-TTL:PT1H
BEGIN:VTIMEZONE
TZID:Europe/London
BEGIN:DAYLIGHT
TZOFFSETFROM:+0000
TZOFFSETTO:+0100
TZNAME:BST
DTSTART:20110327T010000
END:DAYLIGHT
BEGIN:STANDARD
TZOFFSETFROM:+0100
TZOFFSETTO:+0000
TZNAME:GMT
DTSTART:20111030T010000
END:STANDARD
BEGIN:DAYLIGHT
TZOFFSETFROM:+0000
TZOFFSETTO:+0100
TZNAME:BST
DTSTART:20120325T010000
END:DAYLIGHT
BEGIN:STANDARD
TZOFFSETFROM:+0100
TZOFFSETTO:+0000
TZNAME:GMT
DTSTART:20121028T010000
END:STANDARD
BEGIN:DAYLIGHT
TZOFFSETFROM:+0000
TZOFFSETTO:+0100
TZNAME:BST
DTSTART:20130331T010000
END:DAYLIGHT
BEGIN:STANDARD
TZOFFSETFROM:+0100
TZOFFSETTO:+0000
TZNAME:GMT
DTSTART:20131027T010000
END:STANDARD
END:VTIMEZONE
BEGIN:VEVENT
DTSTART;TZID=Europe/London:20120424T110000
DTEND;TZID=Europe/London:20120424T130000
DTSTAMP:20260421T201846
CREATED:20120424T100000Z
LAST-MODIFIED:20120424T100000Z
UID:44392-1335265200-1335272400@c3sc.org.uk
SUMMARY:Cardiff Community Safety Network meeting
DESCRIPTION:Are you a member of a Neighbourhood Watch group\, Residents’ Association or involved in community safety in Cardiff in any other way? Then the Cardiff Community Safety Network is a great way to meet other organisations in the same field\, to share ideas and to gain access to up-to-date\, relevant information. \nIf you’re interested in joining this network and attending this meeting\, please contact Caroline Hardy (see below for details).
URL:https://c3sc.org.uk/event-single/cardiff-community-safety-network-meeting/
LOCATION:C3SC offices\, Brunel House\, 2 Fitzalan Road\, Cardiff CF24 0EB.\, C3SC offices\, Brunel House\, 2 Fitzalan Road\, Cardiff CF24 0EB.
CATEGORIES:Meeting
END:VEVENT
END:VCALENDAR