BEGIN:VCALENDAR
VERSION:2.0
PRODID:-//C3SC - Cardiff Third Sector Council - ECPv6.15.17//NONSGML v1.0//EN
CALSCALE:GREGORIAN
METHOD:PUBLISH
X-WR-CALNAME:C3SC - Cardiff Third Sector Council
X-ORIGINAL-URL:https://c3sc.org.uk
X-WR-CALDESC:Events for C3SC - Cardiff Third Sector Council
REFRESH-INTERVAL;VALUE=DURATION:PT1H
X-Robots-Tag:noindex
X-PUBLISHED-TTL:PT1H
BEGIN:VTIMEZONE
TZID:Europe/London
BEGIN:DAYLIGHT
TZOFFSETFROM:+0000
TZOFFSETTO:+0100
TZNAME:BST
DTSTART:20210328T010000
END:DAYLIGHT
BEGIN:STANDARD
TZOFFSETFROM:+0100
TZOFFSETTO:+0000
TZNAME:GMT
DTSTART:20211031T010000
END:STANDARD
BEGIN:DAYLIGHT
TZOFFSETFROM:+0000
TZOFFSETTO:+0100
TZNAME:BST
DTSTART:20220327T010000
END:DAYLIGHT
BEGIN:STANDARD
TZOFFSETFROM:+0100
TZOFFSETTO:+0000
TZNAME:GMT
DTSTART:20221030T010000
END:STANDARD
BEGIN:DAYLIGHT
TZOFFSETFROM:+0000
TZOFFSETTO:+0100
TZNAME:BST
DTSTART:20230326T010000
END:DAYLIGHT
BEGIN:STANDARD
TZOFFSETFROM:+0100
TZOFFSETTO:+0000
TZNAME:GMT
DTSTART:20231029T010000
END:STANDARD
END:VTIMEZONE
BEGIN:VEVENT
DTSTART;TZID=Europe/London:20220324T110000
DTEND;TZID=Europe/London:20220324T120000
DTSTAMP:20260420T062845
CREATED:20220307T130209Z
LAST-MODIFIED:20220307T130906Z
UID:63861-1648119600-1648123200@c3sc.org.uk
SUMMARY:C3SC World of Work Webinar with Kier Construction
DESCRIPTION:A great opportunity for people looking for help getting into work to hear from an employer about skills needs\, current and future vacancies. \n\nSuitable for Cardiff-based job seekers and those embarking on journeys into or back into employment \nAn insight into the world of work as we recover from the Covid pandemic as told by an employer \nFirst hand account from an employee on their journey into work\, both barriers and opportunities \nAn insight for jobseekers into the skills and qualifications needed\nOptions available to jobseekers: employment programmes\, apprenticeships and graduate-entry \nOpportunities for all age groups\nCurrent vacancies and recruitment needs\nQuestions & Answers\n\nTo book\, visit: https://www.eventbrite.co.uk/e/c3sc-world-of-work-webinar-with-kier-construction-tickets-289485357497
URL:https://c3sc.org.uk/event-single/c3sc-world-of-work-webinar-with-kier-construction/
ATTACH;FMTTYPE=image/png:https://c3sc.org.uk/wp-content/uploads/C3SC-Eventbrite-Main-Event-Image.png
END:VEVENT
END:VCALENDAR