BEGIN:VCALENDAR
VERSION:2.0
PRODID:-//C3SC - Cardiff Third Sector Council - ECPv6.15.17//NONSGML v1.0//EN
CALSCALE:GREGORIAN
METHOD:PUBLISH
X-WR-CALNAME:C3SC - Cardiff Third Sector Council
X-ORIGINAL-URL:https://c3sc.org.uk
X-WR-CALDESC:Events for C3SC - Cardiff Third Sector Council
REFRESH-INTERVAL;VALUE=DURATION:PT1H
X-Robots-Tag:noindex
X-PUBLISHED-TTL:PT1H
BEGIN:VTIMEZONE
TZID:Europe/London
BEGIN:DAYLIGHT
TZOFFSETFROM:+0000
TZOFFSETTO:+0100
TZNAME:BST
DTSTART:20110327T010000
END:DAYLIGHT
BEGIN:STANDARD
TZOFFSETFROM:+0100
TZOFFSETTO:+0000
TZNAME:GMT
DTSTART:20111030T010000
END:STANDARD
BEGIN:DAYLIGHT
TZOFFSETFROM:+0000
TZOFFSETTO:+0100
TZNAME:BST
DTSTART:20120325T010000
END:DAYLIGHT
BEGIN:STANDARD
TZOFFSETFROM:+0100
TZOFFSETTO:+0000
TZNAME:GMT
DTSTART:20121028T010000
END:STANDARD
BEGIN:DAYLIGHT
TZOFFSETFROM:+0000
TZOFFSETTO:+0100
TZNAME:BST
DTSTART:20130331T010000
END:DAYLIGHT
BEGIN:STANDARD
TZOFFSETFROM:+0100
TZOFFSETTO:+0000
TZNAME:GMT
DTSTART:20131027T010000
END:STANDARD
END:VTIMEZONE
BEGIN:VEVENT
DTSTART;TZID=Europe/London:20120703T094500
DTEND;TZID=Europe/London:20120703T160000
DTSTAMP:20260423T064221
CREATED:20120703T084500Z
LAST-MODIFIED:20120703T084500Z
UID:44679-1341308700-1341331200@c3sc.org.uk
SUMMARY:C3SC Training - RBA Theory & Practice
DESCRIPTION:This course will help you to: \n – Get to grips with Results Based Accountability – Understand it’s principles – Discover its context in relation to Cardiff
URL:https://c3sc.org.uk/event-single/c3sc-training-rba-theory-practice-2/
LOCATION:C3SC\, Brunel House\, 2 Fitzalan Road\, CF24 0EB\, C3SC\, Brunel House\, 2 Fitzalan Road\, CF24 0EB
CATEGORIES:Training
END:VEVENT
END:VCALENDAR