BEGIN:VCALENDAR
VERSION:2.0
PRODID:-//C3SC - Cardiff Third Sector Council - ECPv6.15.17//NONSGML v1.0//EN
CALSCALE:GREGORIAN
METHOD:PUBLISH
X-WR-CALNAME:C3SC - Cardiff Third Sector Council
X-ORIGINAL-URL:https://c3sc.org.uk
X-WR-CALDESC:Events for C3SC - Cardiff Third Sector Council
REFRESH-INTERVAL;VALUE=DURATION:PT1H
X-Robots-Tag:noindex
X-PUBLISHED-TTL:PT1H
BEGIN:VTIMEZONE
TZID:Europe/London
BEGIN:DAYLIGHT
TZOFFSETFROM:+0000
TZOFFSETTO:+0100
TZNAME:BST
DTSTART:20160327T010000
END:DAYLIGHT
BEGIN:STANDARD
TZOFFSETFROM:+0100
TZOFFSETTO:+0000
TZNAME:GMT
DTSTART:20161030T010000
END:STANDARD
BEGIN:DAYLIGHT
TZOFFSETFROM:+0000
TZOFFSETTO:+0100
TZNAME:BST
DTSTART:20170326T010000
END:DAYLIGHT
BEGIN:STANDARD
TZOFFSETFROM:+0100
TZOFFSETTO:+0000
TZNAME:GMT
DTSTART:20171029T010000
END:STANDARD
BEGIN:DAYLIGHT
TZOFFSETFROM:+0000
TZOFFSETTO:+0100
TZNAME:BST
DTSTART:20180325T010000
END:DAYLIGHT
BEGIN:STANDARD
TZOFFSETFROM:+0100
TZOFFSETTO:+0000
TZNAME:GMT
DTSTART:20181028T010000
END:STANDARD
END:VTIMEZONE
BEGIN:VEVENT
DTSTART;TZID=Europe/London:20171130T100000
DTEND;TZID=Europe/London:20171130T160000
DTSTAMP:20260426T051444
CREATED:20170804T135210Z
LAST-MODIFIED:20170804T135210Z
UID:49367-1512036000-1512057600@c3sc.org.uk
SUMMARY:C3SC Training: Planning and Writing Successful Funding Bids
DESCRIPTION:The aim of this course is to provide participants with an opportunity to master new techniques to develop and write successful funding bids.The funding environment is becoming more and more competitive with most funders receiving thousands of requests for support each year. It is therefore vital that your funding bids stand out from the crowd! This training course will help you learn how to improve your funding bids by adopting a structured approach to the planning and writing of your future applications. \nBy the end of the course\, participants will be able to: \n\nunderstand the current funding climate in Wales and its impact on funders\nreview their current approach of developing a bid\napply new tools and techniques to give their bids a winning ‘edge’\nunderstand and meet the expectations of funders\n\nIdeal for:This course is intended for experienced bid writers wanting to further develop their knowledge and skills to produce compelling funding bids. It is NOT suitable for those with little or no previous experience of grant funding. \nBook online \nAlternatively\, email training@c3sc.org.uk or call us on (029) 2048 5722.
URL:https://c3sc.org.uk/event-single/c3sc-training-planning-and-writing-successful-funding-bids-9/
LOCATION:C3SC Offices\, Baltic House\, Mount Stuart Square\, Cardiff\, CF10 5FH\, C3SC Offices\, Baltic House\, Mount Stuart Square\, Cardiff\, CF10 5FH
CATEGORIES:Training
END:VEVENT
END:VCALENDAR