BEGIN:VCALENDAR
VERSION:2.0
PRODID:-//C3SC - Cardiff Third Sector Council - ECPv6.15.17//NONSGML v1.0//EN
CALSCALE:GREGORIAN
METHOD:PUBLISH
X-WR-CALNAME:C3SC - Cardiff Third Sector Council
X-ORIGINAL-URL:https://c3sc.org.uk
X-WR-CALDESC:Events for C3SC - Cardiff Third Sector Council
REFRESH-INTERVAL;VALUE=DURATION:PT1H
X-Robots-Tag:noindex
X-PUBLISHED-TTL:PT1H
BEGIN:VTIMEZONE
TZID:Europe/London
BEGIN:DAYLIGHT
TZOFFSETFROM:+0000
TZOFFSETTO:+0100
TZNAME:BST
DTSTART:20110327T010000
END:DAYLIGHT
BEGIN:STANDARD
TZOFFSETFROM:+0100
TZOFFSETTO:+0000
TZNAME:GMT
DTSTART:20111030T010000
END:STANDARD
BEGIN:DAYLIGHT
TZOFFSETFROM:+0000
TZOFFSETTO:+0100
TZNAME:BST
DTSTART:20120325T010000
END:DAYLIGHT
BEGIN:STANDARD
TZOFFSETFROM:+0100
TZOFFSETTO:+0000
TZNAME:GMT
DTSTART:20121028T010000
END:STANDARD
BEGIN:DAYLIGHT
TZOFFSETFROM:+0000
TZOFFSETTO:+0100
TZNAME:BST
DTSTART:20130331T010000
END:DAYLIGHT
BEGIN:STANDARD
TZOFFSETFROM:+0100
TZOFFSETTO:+0000
TZNAME:GMT
DTSTART:20131027T010000
END:STANDARD
END:VTIMEZONE
BEGIN:VEVENT
DTSTART;TZID=Europe/London:20120509T100000
DTEND;TZID=Europe/London:20120509T120000
DTSTAMP:20260423T063647
CREATED:20120509T090000Z
LAST-MODIFIED:20120509T090000Z
UID:44455-1336557600-1336564800@c3sc.org.uk
SUMMARY:Another Jobs Fair
DESCRIPTION:Here’s just a taster of the employers and organisations represented at this jobs fair: \n – Cardiff Bus – Dragon Taxis – Hafod Care Association (Hendre) – Recruit3 – Admiral – Careers Wales – Media Wales – Tesco House – WCVA –  … and lots\, lots more –
URL:https://c3sc.org.uk/event-single/another-jobs-fair/
LOCATION:City Hall\, Cardiff\, City Hall\, Cardiff
CATEGORIES:Event
END:VEVENT
END:VCALENDAR