BEGIN:VCALENDAR
VERSION:2.0
PRODID:-//C3SC - Cardiff Third Sector Council - ECPv6.15.17//NONSGML v1.0//EN
CALSCALE:GREGORIAN
METHOD:PUBLISH
X-WR-CALNAME:C3SC - Cardiff Third Sector Council
X-ORIGINAL-URL:https://c3sc.org.uk
X-WR-CALDESC:Events for C3SC - Cardiff Third Sector Council
REFRESH-INTERVAL;VALUE=DURATION:PT1H
X-Robots-Tag:noindex
X-PUBLISHED-TTL:PT1H
BEGIN:VTIMEZONE
TZID:Europe/London
BEGIN:DAYLIGHT
TZOFFSETFROM:+0000
TZOFFSETTO:+0100
TZNAME:BST
DTSTART:20190331T010000
END:DAYLIGHT
BEGIN:STANDARD
TZOFFSETFROM:+0100
TZOFFSETTO:+0000
TZNAME:GMT
DTSTART:20191027T010000
END:STANDARD
BEGIN:DAYLIGHT
TZOFFSETFROM:+0000
TZOFFSETTO:+0100
TZNAME:BST
DTSTART:20200329T010000
END:DAYLIGHT
BEGIN:STANDARD
TZOFFSETFROM:+0100
TZOFFSETTO:+0000
TZNAME:GMT
DTSTART:20201025T010000
END:STANDARD
BEGIN:DAYLIGHT
TZOFFSETFROM:+0000
TZOFFSETTO:+0100
TZNAME:BST
DTSTART:20210328T010000
END:DAYLIGHT
BEGIN:STANDARD
TZOFFSETFROM:+0100
TZOFFSETTO:+0000
TZNAME:GMT
DTSTART:20211031T010000
END:STANDARD
END:VTIMEZONE
BEGIN:VEVENT
DTSTART;TZID=Europe/London:20200116T093000
DTEND;TZID=Europe/London:20200116T140000
DTSTAMP:20260424T005754
CREATED:20200106T154812Z
LAST-MODIFIED:20200106T154812Z
UID:50354-1579167000-1579183200@c3sc.org.uk
SUMMARY:Adult Social Services Strategy Engagement event – 16 January 2020
DESCRIPTION:Cardiff Council is developing a new Adult Social Services Strategy and they want to co-produce it with people who live across Cardiff who use or may need to use services in the future.  They have asked Cardiff Third Sector Council to arrange an initial meeting to discuss what should be included in the new strategy.  There will be opportunities following the event to provide additional information and feedback based on what you tell them on the 16 January 2020. \nThe event will be taking place on Thursday\, 16 January 2020.  \nRegistration will be open from 9.30am with the event starting at 10am and finishing by 2pm.  \nThe event will be taking place at Insole Court\, Fairwater Road\, Llandaff\, Cardiff CF5 2LN. \nFood and refreshments will be provided on the day.  If you have any allergies\, food intolerances or access requirements please can you include these on your booking form.   Please note that the event is primarily for service users and carers\, and that pre-booking is essential to secure your place. To book\, please visit Eventbrite. \nIf you require more information\, please email admin@c3sc.org.uk
URL:https://c3sc.org.uk/event-single/adult-social-services-strategy-engagement-event-16-january-2020/
LOCATION:Insole Court\, Fairwater Road\, Llandaff\, Cardiff CF5 2LN.\, Insole Court\, Fairwater Road\, Llandaff\, Cardiff CF5 2LN.
CATEGORIES:Event
END:VEVENT
END:VCALENDAR